BEGIN:VCALENDAR
PRODID:-//Pixl8//Eventfolio//EN
VERSION:2.0
X-WR-TIMEZONE:Europe/Paris
CALSCALE:GREGORIAN
METHOD:PUBLISH
CLASS:PUBLIC
BEGIN:VTIMEZONE
TZID:Europe/Paris
LAST-MODIFIED:20260306T231828Z
TZURL:https://www.tzurl.org/zoneinfo-outlook/Europe/Paris
X-LIC-LOCATION:Europe/Paris
BEGIN:DAYLIGHT
TZNAME:CEST
TZOFFSETFROM:+0100
TZOFFSETTO:+0200
DTSTART:19700329T020000
RRULE:FREQ=YEARLY;BYMONTH=3;BYDAY=-1SU
END:DAYLIGHT
BEGIN:STANDARD
TZNAME:CET
TZOFFSETFROM:+0200
TZOFFSETTO:+0100
DTSTART:19701025T030000
RRULE:FREQ=YEARLY;BYMONTH=10;BYDAY=-1SU
END:STANDARD
END:VTIMEZONE
BEGIN:VEVENT
DTSTART;TZID=Europe/Paris;VALUE=DATE:20230503
DTEND;TZID=Europe/Paris;VALUE=DATE:20230507
DTSTAMP:20260425T221304Z
UID:{B03BF223-7A69-4A3C-AE5954F4ACE9DE0F}
LOCATION:Marseille\, France
SUMMARY:17th International Congress on Myelodysplastic Syndromes (MDS 2023)
DESCRIPTION:Event details: https://isbt.pixl8-uat.cloud/events/17th-international-congress-on-myelodysplastic-syndromes-mds-2023.html
PRIORITY:1
END:VEVENT
END:VCALENDAR