BEGIN:VCALENDAR
PRODID:-//Pixl8//Eventfolio//EN
VERSION:2.0
X-WR-TIMEZONE:Europe/Brussels
CALSCALE:GREGORIAN
METHOD:PUBLISH
CLASS:PUBLIC
BEGIN:VTIMEZONE
TZID:Europe/Brussels
LAST-MODIFIED:20260306T231828Z
TZURL:https://www.tzurl.org/zoneinfo-outlook/Europe/Brussels
X-LIC-LOCATION:Europe/Brussels
BEGIN:DAYLIGHT
TZNAME:CEST
TZOFFSETFROM:+0100
TZOFFSETTO:+0200
DTSTART:19700329T020000
RRULE:FREQ=YEARLY;BYMONTH=3;BYDAY=-1SU
END:DAYLIGHT
BEGIN:STANDARD
TZNAME:CET
TZOFFSETFROM:+0200
TZOFFSETTO:+0100
DTSTART:19701025T030000
RRULE:FREQ=YEARLY;BYMONTH=10;BYDAY=-1SU
END:STANDARD
END:VTIMEZONE
BEGIN:VEVENT
DTSTART;TZID=Europe/Brussels;VALUE=DATE:20220917
DTEND;TZID=Europe/Brussels;VALUE=DATE:20220923
DTSTAMP:20260425T210731Z
UID:{EAC8C9D1-564F-4D78-A776EF000F9CB6BC}
LOCATION:Firenze
SUMMARY:21st Meeting of the European Association for Haematopathology
DESCRIPTION:Join six fabulous days of insight, live interaction, and inspiration - on site in Florence or virtually from all over the world!\n
 \n
 Event details: https://isbt.pixl8-uat.cloud/events/21st-meeting-of-the-european-association-for-haematopathology.html
PRIORITY:1
END:VEVENT
END:VCALENDAR