BEGIN:VCALENDAR
PRODID:-//Pixl8//Eventfolio//EN
VERSION:2.0
X-WR-TIMEZONE:Europe/Brussels
CALSCALE:GREGORIAN
METHOD:PUBLISH
CLASS:PUBLIC
BEGIN:VTIMEZONE
TZID:Europe/Brussels
LAST-MODIFIED:20260306T231828Z
TZURL:https://www.tzurl.org/zoneinfo-outlook/Europe/Brussels
X-LIC-LOCATION:Europe/Brussels
BEGIN:DAYLIGHT
TZNAME:CEST
TZOFFSETFROM:+0100
TZOFFSETTO:+0200
DTSTART:19700329T020000
RRULE:FREQ=YEARLY;BYMONTH=3;BYDAY=-1SU
END:DAYLIGHT
BEGIN:STANDARD
TZNAME:CET
TZOFFSETFROM:+0200
TZOFFSETTO:+0100
DTSTART:19701025T030000
RRULE:FREQ=YEARLY;BYMONTH=10;BYDAY=-1SU
END:STANDARD
END:VTIMEZONE
BEGIN:VEVENT
DTSTART;TZID=Europe/Brussels;VALUE=DATE:20240207
DTEND;TZID=Europe/Brussels;VALUE=DATE:20240209
DTSTAMP:20260425T111537Z
UID:{0FB82A0C-88DF-469F-9946FE5F20CFB31A}
LOCATION:Stadsgehoorzaal
SUMMARY:3rd Biannual IPFA/EBA Symposium on Plasma Collection and Supply
DESCRIPTION:Through a broad-ranging symposium programme focusing on the entire plasma chain – from donor recruitment and health, through plasma collection and manufacturing into plasma medicines, to patient care, discussions will guide how the public sector and its blood establishments strengthen the collection and supply of plasma.\n
 \n
 Event details: https://isbt.pixl8-uat.cloud/events/3rd-biannual-ipfa-eba-symposium-on-plasma-collection-and-supply.html
PRIORITY:1
END:VEVENT
END:VCALENDAR