BEGIN:VCALENDAR
PRODID:-//Pixl8//Eventfolio//EN
VERSION:2.0
X-WR-TIMEZONE:Europe/Brussels
CALSCALE:GREGORIAN
METHOD:PUBLISH
CLASS:PUBLIC
BEGIN:VTIMEZONE
TZID:Europe/Brussels
LAST-MODIFIED:20260306T231828Z
TZURL:https://www.tzurl.org/zoneinfo-outlook/Europe/Brussels
X-LIC-LOCATION:Europe/Brussels
BEGIN:DAYLIGHT
TZNAME:CEST
TZOFFSETFROM:+0100
TZOFFSETTO:+0200
DTSTART:19700329T020000
RRULE:FREQ=YEARLY;BYMONTH=3;BYDAY=-1SU
END:DAYLIGHT
BEGIN:STANDARD
TZNAME:CET
TZOFFSETFROM:+0200
TZOFFSETTO:+0100
DTSTART:19701025T030000
RRULE:FREQ=YEARLY;BYMONTH=10;BYDAY=-1SU
END:STANDARD
END:VTIMEZONE
BEGIN:VEVENT
DTSTART;TZID=Europe/Brussels:20220520T090000
DTEND;TZID=Europe/Brussels:20220521T170000
DTSTAMP:20260425T194509Z
UID:{B4F6FBE3-21F6-44D7-850DE373EB969842}
LOCATION:
SUMMARY:4th Latin American Group on Chronic Lymphocytic Leukemia Meeting
DESCRIPTION:The art of Biology and the treatment of CLL, after recent international meetings including the\n
 \n
 XIX International Workshop on CLL (iwCLL).\n
 \n
 Event details: https://isbt.pixl8-uat.cloud/events/4th-latin-american-group-on-chronic-lymphocytic-leukemia-meeting.html
PRIORITY:1
END:VEVENT
END:VCALENDAR