BEGIN:VCALENDAR
PRODID:-//Pixl8//Eventfolio//EN
VERSION:2.0
X-WR-TIMEZONE:Europe/Vienna
CALSCALE:GREGORIAN
METHOD:PUBLISH
CLASS:PUBLIC
BEGIN:VTIMEZONE
TZID:Europe/Vienna
LAST-MODIFIED:20260306T231828Z
TZURL:https://www.tzurl.org/zoneinfo-outlook/Europe/Vienna
X-LIC-LOCATION:Europe/Vienna
BEGIN:DAYLIGHT
TZNAME:CEST
TZOFFSETFROM:+0100
TZOFFSETTO:+0200
DTSTART:19700329T020000
RRULE:FREQ=YEARLY;BYMONTH=3;BYDAY=-1SU
END:DAYLIGHT
BEGIN:STANDARD
TZNAME:CET
TZOFFSETFROM:+0200
TZOFFSETTO:+0100
DTSTART:19701025T030000
RRULE:FREQ=YEARLY;BYMONTH=10;BYDAY=-1SU
END:STANDARD
END:VTIMEZONE
BEGIN:VEVENT
DTSTART;TZID=Europe/Vienna;VALUE=DATE:20230907
DTEND;TZID=Europe/Vienna;VALUE=DATE:20230910
DTSTAMP:20260425T111736Z
UID:{5EF0C238-1BD1-4CD4-BB08108F2A83CE01}
LOCATION:Vienna
SUMMARY:5th European Conference on Donor Health and Management (ECDHM) 
DESCRIPTION:Event details: https://isbt.pixl8-uat.cloud/events/5th-european-conference-on-donor-health-and-management-ecdhm.html
PRIORITY:1
END:VEVENT
END:VCALENDAR