BEGIN:VCALENDAR
PRODID:-//Pixl8//Eventfolio//EN
VERSION:2.0
X-WR-TIMEZONE:Europe/Berlin
CALSCALE:GREGORIAN
METHOD:PUBLISH
CLASS:PUBLIC
BEGIN:VTIMEZONE
TZID:Europe/Berlin
LAST-MODIFIED:20260306T231828Z
TZURL:https://www.tzurl.org/zoneinfo-outlook/Europe/Berlin
X-LIC-LOCATION:Europe/Berlin
BEGIN:DAYLIGHT
TZNAME:CEST
TZOFFSETFROM:+0100
TZOFFSETTO:+0200
DTSTART:19700329T020000
RRULE:FREQ=YEARLY;BYMONTH=3;BYDAY=-1SU
END:DAYLIGHT
BEGIN:STANDARD
TZNAME:CET
TZOFFSETFROM:+0200
TZOFFSETTO:+0100
DTSTART:19701025T030000
RRULE:FREQ=YEARLY;BYMONTH=10;BYDAY=-1SU
END:STANDARD
END:VTIMEZONE
BEGIN:VEVENT
DTSTART;TZID=Europe/Berlin;VALUE=DATE:20230525
DTEND;TZID=Europe/Berlin;VALUE=DATE:20230527
DTSTAMP:20260425T194515Z
UID:{8625634B-108A-4DA5-BE3031633F3F22F6}
LOCATION:Copenhagen\, Denmark
SUMMARY:5th International Meeting on Cell-Free DNA, cfDNA2023
DESCRIPTION:Event details: https://isbt.pixl8-uat.cloud/events/5th-international-meeting-on-cell-free-dna-cfdna2023.html
PRIORITY:1
END:VEVENT
END:VCALENDAR