BEGIN:VCALENDAR
PRODID:-//Pixl8//Eventfolio//EN
VERSION:2.0
X-WR-TIMEZONE:Asia/Tehran
CALSCALE:GREGORIAN
METHOD:PUBLISH
CLASS:PUBLIC
BEGIN:VTIMEZONE
TZID:Asia/Tehran
LAST-MODIFIED:20260306T231828Z
TZURL:https://www.tzurl.org/zoneinfo-outlook/Asia/Tehran
X-LIC-LOCATION:Asia/Tehran
BEGIN:STANDARD
TZNAME:+0330
TZOFFSETFROM:+0330
TZOFFSETTO:+0330
DTSTART:19700101T000000
END:STANDARD
END:VTIMEZONE
BEGIN:VEVENT
DTSTART;TZID=Asia/Tehran:20240514T090000
DTEND;TZID=Asia/Tehran:20240515T230000
DTSTAMP:20260425T111747Z
UID:{7CA17704-9EB2-46B1-81717B67349164F9}
LOCATION:Tehran\, Iran 
SUMMARY:5th Iran International Congress of Transfusion Medicine
DESCRIPTION:Event details: https://isbt.pixl8-uat.cloud/events/5th-iran-international-congress-of-transfusion-medicine.html
PRIORITY:1
END:VEVENT
END:VCALENDAR