BEGIN:VCALENDAR
PRODID:-//Pixl8//Eventfolio//EN
VERSION:2.0
X-WR-TIMEZONE:Europe/Belgrade
CALSCALE:GREGORIAN
METHOD:PUBLISH
CLASS:PUBLIC
BEGIN:VTIMEZONE
TZID:Europe/Belgrade
LAST-MODIFIED:20260306T231828Z
TZURL:https://www.tzurl.org/zoneinfo-outlook/Europe/Belgrade
X-LIC-LOCATION:Europe/Belgrade
BEGIN:DAYLIGHT
TZNAME:CEST
TZOFFSETFROM:+0100
TZOFFSETTO:+0200
DTSTART:19700329T020000
RRULE:FREQ=YEARLY;BYMONTH=3;BYDAY=-1SU
END:DAYLIGHT
BEGIN:STANDARD
TZNAME:CET
TZOFFSETFROM:+0200
TZOFFSETTO:+0100
DTSTART:19701025T030000
RRULE:FREQ=YEARLY;BYMONTH=10;BYDAY=-1SU
END:STANDARD
END:VTIMEZONE
BEGIN:VEVENT
DTSTART;TZID=Europe/Belgrade;VALUE=DATE:20231101
DTEND;TZID=Europe/Belgrade;VALUE=DATE:20231105
DTSTAMP:20260425T194514Z
UID:{4C8E3E38-9DC4-4942-B138BC1CBC84B2A8}
LOCATION:Congress Center Aleksandar Palace
SUMMARY:6th Congress of the Macedonian Society for Transfusion Medicine
DESCRIPTION:November 1: ISBT Highlight Day with International Speakers\n
 \n
 Event details: https://isbt.pixl8-uat.cloud/events/6th-congress-of-the-macedonian-society-for-transfusion-medicine.html
PRIORITY:1
END:VEVENT
END:VCALENDAR