BEGIN:VCALENDAR
PRODID:-//Pixl8//Eventfolio//EN
VERSION:2.0
X-WR-TIMEZONE:Africa/Cairo
CALSCALE:GREGORIAN
METHOD:PUBLISH
CLASS:PUBLIC
BEGIN:VTIMEZONE
TZID:Africa/Cairo
LAST-MODIFIED:20260306T231828Z
TZURL:https://www.tzurl.org/zoneinfo-outlook/Africa/Cairo
X-LIC-LOCATION:Africa/Cairo
BEGIN:DAYLIGHT
TZNAME:EEST
TZOFFSETFROM:+0200
TZOFFSETTO:+0300
DTSTART:19700424T000000
RRULE:FREQ=YEARLY;BYMONTH=4;BYDAY=-1FR
END:DAYLIGHT
BEGIN:STANDARD
TZNAME:EET
TZOFFSETFROM:+0300
TZOFFSETTO:+0200
DTSTART:19701030T000000
RRULE:FREQ=YEARLY;BYMONTH=10;BYDAY=-1FR
END:STANDARD
END:VTIMEZONE
BEGIN:VEVENT
DTSTART;TZID=Africa/Cairo:20240111T083000
DTEND;TZID=Africa/Cairo:20240113T170000
DTSTAMP:20260425T111706Z
UID:{E7078C7B-A025-42D7-BFD250436BBEB030}
LOCATION:Cairo\, Egypt
SUMMARY:Arab Transfusion Medicine Forum (ATMF) 2024 Meeting
DESCRIPTION:11th January 2024: ISBT Highlight Day\n
 \n
 Event details: https://isbt.pixl8-uat.cloud/events/arab-transfusion-medicine-forum-atmf-2024-meeting.html
PRIORITY:1
END:VEVENT
END:VCALENDAR