BEGIN:VCALENDAR
PRODID:-//Pixl8//Eventfolio//EN
VERSION:2.0
X-WR-TIMEZONE:Europe/Brussels
CALSCALE:GREGORIAN
METHOD:PUBLISH
CLASS:PUBLIC
BEGIN:VTIMEZONE
TZID:Europe/Brussels
LAST-MODIFIED:20260306T231828Z
TZURL:https://www.tzurl.org/zoneinfo-outlook/Europe/Brussels
X-LIC-LOCATION:Europe/Brussels
BEGIN:DAYLIGHT
TZNAME:CEST
TZOFFSETFROM:+0100
TZOFFSETTO:+0200
DTSTART:19700329T020000
RRULE:FREQ=YEARLY;BYMONTH=3;BYDAY=-1SU
END:DAYLIGHT
BEGIN:STANDARD
TZNAME:CET
TZOFFSETFROM:+0200
TZOFFSETTO:+0100
DTSTART:19701025T030000
RRULE:FREQ=YEARLY;BYMONTH=10;BYDAY=-1SU
END:STANDARD
END:VTIMEZONE
BEGIN:VEVENT
DTSTART;TZID=Europe/Brussels:20231024T140000
DTEND;TZID=Europe/Brussels:20231024T153000
DTSTAMP:20260425T194448Z
UID:{3BB5A668-35E0-4D5B-AD4A12F2546B6CC8}
LOCATION:Online
SUMMARY:IHN virtual mini-seminar on Pathophysiology of Transfusion Reactions
DESCRIPTION:Event details: https://isbt.pixl8-uat.cloud/events/ihn-virtual-mini-seminar-on-pathophysiology-of-transfusion-reactions.html
PRIORITY:1
END:VEVENT
END:VCALENDAR