BEGIN:VCALENDAR
PRODID:-//Pixl8//Eventfolio//EN
VERSION:2.0
X-WR-TIMEZONE:Africa/Cairo
CALSCALE:GREGORIAN
METHOD:PUBLISH
CLASS:PUBLIC
BEGIN:VTIMEZONE
TZID:Africa/Cairo
LAST-MODIFIED:20260306T231828Z
TZURL:https://www.tzurl.org/zoneinfo-outlook/Africa/Cairo
X-LIC-LOCATION:Africa/Cairo
BEGIN:DAYLIGHT
TZNAME:EEST
TZOFFSETFROM:+0200
TZOFFSETTO:+0300
DTSTART:19700424T000000
RRULE:FREQ=YEARLY;BYMONTH=4;BYDAY=-1FR
END:DAYLIGHT
BEGIN:STANDARD
TZNAME:EET
TZOFFSETFROM:+0300
TZOFFSETTO:+0200
DTSTART:19701030T000000
RRULE:FREQ=YEARLY;BYMONTH=10;BYDAY=-1FR
END:STANDARD
END:VTIMEZONE
BEGIN:VEVENT
DTSTART;TZID=Africa/Cairo:20221202T160000
DTEND;TZID=Africa/Cairo:20221204T180000
DTSTAMP:20260425T194511Z
UID:{DBD2537C-7D6F-42D5-9405BBB72FB53982}
LOCATION:virtual 
SUMMARY:The 14th Arab Transfusion Medicine Forum Virtual Meeting 
DESCRIPTION:Event details: https://isbt.pixl8-uat.cloud/events/the-14th-arab-transfusion-medicine-forum-virtual-meeting.html
PRIORITY:1
END:VEVENT
END:VCALENDAR