BEGIN:VCALENDAR
PRODID:-//Pixl8//Eventfolio//EN
VERSION:2.0
X-WR-TIMEZONE:Europe/Brussels
CALSCALE:GREGORIAN
METHOD:PUBLISH
CLASS:PUBLIC
BEGIN:VTIMEZONE
TZID:Europe/Brussels
LAST-MODIFIED:20260306T231828Z
TZURL:https://www.tzurl.org/zoneinfo-outlook/Europe/Brussels
X-LIC-LOCATION:Europe/Brussels
BEGIN:DAYLIGHT
TZNAME:CEST
TZOFFSETFROM:+0100
TZOFFSETTO:+0200
DTSTART:19700329T020000
RRULE:FREQ=YEARLY;BYMONTH=3;BYDAY=-1SU
END:DAYLIGHT
BEGIN:STANDARD
TZNAME:CET
TZOFFSETFROM:+0200
TZOFFSETTO:+0100
DTSTART:19701025T030000
RRULE:FREQ=YEARLY;BYMONTH=10;BYDAY=-1SU
END:STANDARD
END:VTIMEZONE
BEGIN:VEVENT
DTSTART;TZID=Europe/Brussels:20220329T140000
DTEND;TZID=Europe/Brussels:20220329T163000
DTSTAMP:20260425T111736Z
UID:{6AD37589-D85C-43B9-99D142E33E07C6C0}
LOCATION:
SUMMARY:Virtual mini-seminar of the International Haemovigilance Network (IHN)
DESCRIPTION:Event details: https://isbt.pixl8-uat.cloud/events/virtual-mini-seminar-of-the-international-haemovigilance-network-ihn.html
PRIORITY:1
END:VEVENT
END:VCALENDAR